BEGIN:VCALENDAR
VERSION:2.0
PRODID:-//Teatro Comunale di Monfalcone - ECPv6.15.20//NONSGML v1.0//EN
CALSCALE:GREGORIAN
METHOD:PUBLISH
X-ORIGINAL-URL:https://www.teatromonfalcone.it
X-WR-CALDESC:Eventi per Teatro Comunale di Monfalcone
REFRESH-INTERVAL;VALUE=DURATION:PT1H
X-Robots-Tag:noindex
X-PUBLISHED-TTL:PT1H
BEGIN:VTIMEZONE
TZID:Europe/Rome
BEGIN:DAYLIGHT
TZOFFSETFROM:+0100
TZOFFSETTO:+0200
TZNAME:CEST
DTSTART:20230326T010000
END:DAYLIGHT
BEGIN:STANDARD
TZOFFSETFROM:+0200
TZOFFSETTO:+0100
TZNAME:CET
DTSTART:20231029T010000
END:STANDARD
BEGIN:DAYLIGHT
TZOFFSETFROM:+0100
TZOFFSETTO:+0200
TZNAME:CEST
DTSTART:20240331T010000
END:DAYLIGHT
BEGIN:STANDARD
TZOFFSETFROM:+0200
TZOFFSETTO:+0100
TZNAME:CET
DTSTART:20241027T010000
END:STANDARD
BEGIN:DAYLIGHT
TZOFFSETFROM:+0100
TZOFFSETTO:+0200
TZNAME:CEST
DTSTART:20250330T010000
END:DAYLIGHT
BEGIN:STANDARD
TZOFFSETFROM:+0200
TZOFFSETTO:+0100
TZNAME:CET
DTSTART:20251026T010000
END:STANDARD
BEGIN:DAYLIGHT
TZOFFSETFROM:+0100
TZOFFSETTO:+0200
TZNAME:CEST
DTSTART:20260329T010000
END:DAYLIGHT
BEGIN:STANDARD
TZOFFSETFROM:+0200
TZOFFSETTO:+0100
TZNAME:CET
DTSTART:20261025T010000
END:STANDARD
END:VTIMEZONE
BEGIN:VEVENT
DTSTART;TZID=Europe/Rome:20241018T204500
DTEND;TZID=Europe/Rome:20241018T204500
DTSTAMP:20260421T113046
CREATED:20240812T072627Z
LAST-MODIFIED:20241021T080349Z
UID:10000732-1729284300-1729284300@www.teatromonfalcone.it
SUMMARY:Richard Galliano / New York Tango Trio
DESCRIPTION:Astor Piazzolla (1921 – 1992)\nLibertango\nAdiós nonino\nVuelvo al Sur\nMilonga del Ángel\nChiquilín de Bachín\nOblivion\nClose Your Eyes And Listen \nRichard Galliano (1950 – *)\nLaura et Astor\nDes Voiliers\nTango pour Claude\nNew York Tango\nHeavy Tango\nAzul Tango\nA l’encre rouge\nWaltz for Nicky\nFou rire
URL:https://www.teatromonfalcone.it/eventi/richard-galliano-new-york-tango-trio/
CATEGORIES:ControCanto,Musica
ATTACH;FMTTYPE=image/png:https://www.teatromonfalcone.it/wp-content/uploads/2024/08/Galliano-Trio_ok.png
END:VEVENT
BEGIN:VEVENT
DTSTART;TZID=Europe/Rome:20241026T180000
DTEND;TZID=Europe/Rome:20241026T180000
DTSTAMP:20260421T113046
CREATED:20240926T083235Z
LAST-MODIFIED:20260209T110156Z
UID:10000768-1729965600-1729965600@www.teatromonfalcone.it
SUMMARY:Iryna Bobyreva / Iryna Lytvynenko
DESCRIPTION:Camille Saint-Saëns (1835 – 1921)\nSonata n. 1 per violoncello e pianoforte in Do minore\, op. 32 \nJohannes Brahms (1833 – 1897)\nSonata n. 1 per violoncello e pianoforte in Mi minore\, op. 38
URL:https://www.teatromonfalcone.it/eventi/iryna-bobyreva-iryna-lytvynenko/
CATEGORIES:Musica,Talenti in scena
ATTACH;FMTTYPE=image/jpeg:https://www.teatromonfalcone.it/wp-content/uploads/2024/09/Bobyreva-Lytvynenko-cover.jpg
END:VEVENT
BEGIN:VEVENT
DTSTART;TZID=Europe/Rome:20241103T170000
DTEND;TZID=Europe/Rome:20241103T170000
DTSTAMP:20260421T113046
CREATED:20240812T094444Z
LAST-MODIFIED:20240925T132401Z
UID:10000751-1730653200-1730653200@www.teatromonfalcone.it
SUMMARY:Esercizi di fantastica
DESCRIPTION:Spettacolo vincitore del Palchetto d’Oro 2023/2024\nda un’idea di Giorgio Rossi\nuna creazione di Elisa Canessa\, Federico Dimitri\, Francesco Manenti\, Giorgio Rossi\ncon Elisa Canessa\, Federico Dimitri\, Francesco Manenti \nscenografie Francesco Givone\, Francesco Manenti\, Francesca Lombardi\ncostumi Beatrice Giannini\, Francesca Lombardi\nillustrazioni Francesco Manenti \n 
URL:https://www.teatromonfalcone.it/eventi/esercizi-di-fantastica/
CATEGORIES:Piccolipalchi
ATTACH;FMTTYPE=image/jpeg:https://www.teatromonfalcone.it/wp-content/uploads/2024/08/LuigiDeFrenza-cover.jpg
END:VEVENT
BEGIN:VEVENT
DTSTART;TZID=Europe/Rome:20241105T204500
DTEND;TZID=Europe/Rome:20241106T204500
DTSTAMP:20260421T113046
CREATED:20240813T074904Z
LAST-MODIFIED:20241104T121447Z
UID:10000754-1730839500-1730925900@www.teatromonfalcone.it
SUMMARY:Dove eravamo rimasti
DESCRIPTION:Con la collaborazione di Giorgio Cappozzo\ne con la Jazz Company diretta dal M° Gabriele Comeglio\nproduzione\nInternational Music and Arts
URL:https://www.teatromonfalcone.it/eventi/dove-eravamo-rimasti/
CATEGORIES:Prosa
ATTACH;FMTTYPE=image/webp:https://www.teatromonfalcone.it/wp-content/uploads/2024/08/LopezSolenghi-cover.webp
END:VEVENT
BEGIN:VEVENT
DTSTART;TZID=Europe/Rome:20241108T204500
DTEND;TZID=Europe/Rome:20241108T204500
DTSTAMP:20260421T113046
CREATED:20240812T073822Z
LAST-MODIFIED:20241106T113325Z
UID:10000733-1731098700-1731098700@www.teatromonfalcone.it
SUMMARY:Tuorlo d’uovo
DESCRIPTION:Compagnia Bellanda\ndi Giovanni Gava Leonarduzzi\, Lia Claudia Latini\nsound designer\nMaurizio Cecatto\ntecnico\nDennis Mazzolin \ncoreografie di\nGiovanni Gava Leonarduzzi\, Lia Claudia Latini
URL:https://www.teatromonfalcone.it/eventi/tuorlo-duovo/
CATEGORIES:ControCanto,Musica
ATTACH;FMTTYPE=image/webp:https://www.teatromonfalcone.it/wp-content/uploads/2024/08/Bellanda-cover.webp
END:VEVENT
BEGIN:VEVENT
DTSTART;TZID=Europe/Rome:20241114T110000
DTEND;TZID=Europe/Rome:20241114T110000
DTSTAMP:20260421T113046
CREATED:20240926T073447Z
LAST-MODIFIED:20240926T073447Z
UID:10000767-1731582000-1731582000@www.teatromonfalcone.it
SUMMARY:Esplorando i “Quadri di un’esposizione” di Musorgskij attraverso musica\, racconti e arte della carta
DESCRIPTION:progettazione didattica a cura di Pierluigi Maestri\, docente di flauto traverso presso il conservatorio di musica “Niccolò Paganini” di Genova\ne Sara Radin\, docente di pianoforte presso il Liceo Musicale “Carducci-Dante” di Trieste\, esperta in didattica della musica
URL:https://www.teatromonfalcone.it/eventi/esplorando-i-quadri-di-unesposizione-di-musorgskij-attraverso-musica-racconti-e-arte-della-carta/
CATEGORIES:Dentro la scena,Musica
ATTACH;FMTTYPE=image/webp:https://www.teatromonfalcone.it/wp-content/uploads/2024/09/Radin.webp
END:VEVENT
BEGIN:VEVENT
DTSTART;TZID=Europe/Rome:20241115T204500
DTEND;TZID=Europe/Rome:20241115T204500
DTSTAMP:20260421T113046
CREATED:20240812T074345Z
LAST-MODIFIED:20241113T104440Z
UID:10000734-1731703500-1731703500@www.teatromonfalcone.it
SUMMARY:Tre voci un suono
DESCRIPTION:Franz Joseph Haydn (1732 – 1809)\nTrio in Sol maggiore per pianoforte\, violino e violoncello\, Hob. XV / 25 \nLudwig van Beethoven (1770 – 1827)\nTrio per archi e pianoforte n. 2 in Sol maggiore\, op. 1 \nFranz Schubert (1797 – 1828)\nTrio per pianoforte n. 2 in Mi bemolle maggiore\, op. 100
URL:https://www.teatromonfalcone.it/eventi/tre-voci-un-suono/
CATEGORIES:Musica
ATTACH;FMTTYPE=image/webp:https://www.teatromonfalcone.it/wp-content/uploads/2024/08/atos_trio__013__copyright_gela_megrelidze.webp
END:VEVENT
BEGIN:VEVENT
DTSTART;TZID=Europe/Rome:20241116T180000
DTEND;TZID=Europe/Rome:20241116T180000
DTSTAMP:20260421T113046
CREATED:20240926T083700Z
LAST-MODIFIED:20241113T104622Z
UID:10000769-1731780000-1731780000@www.teatromonfalcone.it
SUMMARY:Archi del Conservatorio Tartini / Andrea Virtuoso / David Kulikov
DESCRIPTION:Sergej Rachmaninov (1873 – 1943)\nVocalise\ndalle 14 Romanze\, op. 34\narrangiamento per archi di F. Fani \nSecondo concerto per pianoforte e orchestra\, op. 18\narrangiamento per pianoforte e archi di A. Virtuoso
URL:https://www.teatromonfalcone.it/eventi/david-kulikov-andrea-virtuoso/
CATEGORIES:Musica,Talenti in scena
ATTACH;FMTTYPE=image/webp:https://www.teatromonfalcone.it/wp-content/uploads/2024/09/kulikov-virtuoso.webp
END:VEVENT
BEGIN:VEVENT
DTSTART;TZID=Europe/Rome:20241119T204500
DTEND;TZID=Europe/Rome:20241119T204500
DTSTAMP:20260421T113046
CREATED:20240813T075119Z
LAST-MODIFIED:20241120T093221Z
UID:10000755-1732049100-1732049100@www.teatromonfalcone.it
SUMMARY:Cardio drama. Spettacolo semiserio su un organo quasi perfetto
DESCRIPTION:Drammaturgia di Giulia Lombezzi\nregia di Vittorio Borsari e Giulia Lombezzi\nliberamente tratto dai libri di\nClaudio Cuccia\, primario di Cardiologia della Fondazione Poliambulanza di Brescia \nproduzione\nCHRONOS3\ncon il contributo di\nFondazione Poliambulanza Istituto Ospedaliero e Cardio Calm \nSpettacolo selezionato dall’edizione 2023/2024 di NEXT – Laboratorio delle idee per la produzione e la programmazione dello spettacolo lombardo\, un progetto promosso da Regione Lombardia – Assessorato alla Cultura\, in collaborazione con Fondazione Cariplo
URL:https://www.teatromonfalcone.it/eventi/cardio-drama-spettacolo-semiserio-su-un-organo-quasi-perfetto/
CATEGORIES:FuturaMente,Prosa
ATTACH;FMTTYPE=image/webp:https://www.teatromonfalcone.it/wp-content/uploads/2024/08/cardiodrama_cover.webp
END:VEVENT
BEGIN:VEVENT
DTSTART;TZID=Europe/Rome:20241127T204500
DTEND;TZID=Europe/Rome:20241127T204500
DTSTAMP:20260421T113046
CREATED:20240812T074656Z
LAST-MODIFIED:20241125T162729Z
UID:10000735-1732740300-1732740300@www.teatromonfalcone.it
SUMMARY:La musica colta del Mediterraneo
DESCRIPTION:Antonio Vivaldi (1678 – 1741)\nConcerto in Mi bemolle maggiore per violino e archi n. 5\, op. 8\, RV 253\,\n“La tempesta di mare” \nJoaquín Turina (1882 – 1949)\nLa oración del torero\, op. 34 \nNikolaos Skalkottas (1904 – 1949)\ndalle Danze greche\nEpirotikos\nKleftikos \nClaude Debussy (1862 – 1918)\nda La mer\, tre schizzi sinfonici per orchestra\, L 111\nDe l’aube à midi sur la mer\narrangiamento per archi di Diego Conti \nJan Van der Roost (1956 *)\nRikudim – Due danze popolari israeliane \nDiego Conti\nMediterraneo \nDalibor Grubačević (1975 *)\nCsárdás Suite For Strings\nprima esecuzione italiana \nGiovanni Sollima (1962 *)\nda Aquilarco\nn. 2\, Hintone’s Drawings
URL:https://www.teatromonfalcone.it/eventi/la-musica-colta-del-mediterraneo/
CATEGORIES:Musica
ATTACH;FMTTYPE=image/webp:https://www.teatromonfalcone.it/wp-content/uploads/2024/08/OFM.webp
END:VEVENT
BEGIN:VEVENT
DTSTART;TZID=Europe/Rome:20241130T204500
DTEND;TZID=Europe/Rome:20241201T204500
DTSTAMP:20260421T113046
CREATED:20240813T075518Z
LAST-MODIFIED:20241203T102555Z
UID:10000756-1732999500-1733085900@www.teatromonfalcone.it
SUMMARY:I ragazzi irresistibili
DESCRIPTION:di Neil Simon\ntraduzione di Masolino D’Amico\nregia di Massimo Popolizio\ne con\nFlavio Francucci\, Chiara Stoppa\, Eros Pascale\, Emanuela Saccardi\nla voce del regista televisivo è di\nMassimo Popolizio \nscene\nMaurizio Balò\ncostumi\nGianluca Sbicca\nluci\nCarlo Pediani\nsuono\nAlessandro Saviozzi\nfotografie\nNicolò Feletti \nproduzione\nTeatro de Gli Incamminati / Compagnia Orsini Teatro / Biondo Palermo\nin collaborazione con\nCTB Centro Teatrale Bresciano\ne con\nAMAT Associazione Marchigiana Attività Teatrali e Comune di Fabriano
URL:https://www.teatromonfalcone.it/eventi/i-ragazzi-irresistibili/
CATEGORIES:Prosa
ATTACH;FMTTYPE=image/webp:https://www.teatromonfalcone.it/wp-content/uploads/2024/08/I-ragazzi-irresistibili-cover.webp
END:VEVENT
BEGIN:VEVENT
DTSTART;TZID=Europe/Rome:20241203T204500
DTEND;TZID=Europe/Rome:20241203T204500
DTSTAMP:20260421T113046
CREATED:20240812T074849Z
LAST-MODIFIED:20241203T103247Z
UID:10000736-1733258700-1733258700@www.teatromonfalcone.it
SUMMARY:Mario Biondi Live 2024
DESCRIPTION:
URL:https://www.teatromonfalcone.it/eventi/mario-biondi-live-2024/
CATEGORIES:ControCanto,Musica
ATTACH;FMTTYPE=image/webp:https://www.teatromonfalcone.it/wp-content/uploads/2024/08/MarioBiondi-Palermo_cettilipari.webp
END:VEVENT
BEGIN:VEVENT
DTSTART;TZID=Europe/Rome:20241206T204500
DTEND;TZID=Europe/Rome:20241206T204500
DTSTAMP:20260421T113046
CREATED:20240812T075051Z
LAST-MODIFIED:20241204T094439Z
UID:10000737-1733517900-1733517900@www.teatromonfalcone.it
SUMMARY:Le vette del virtuosismo
DESCRIPTION:Johann Sebastian Bach (1685 – 1750)\nSonata n. 2 in La minore per violino\, BWV 1003\nPartita n. 2 in Re minore per violino solo\, BWV 1004 \n*** \nNiccolò Paganini (1782 – 1840)\ndai 24 Capricci per violino solo\, op. 1\nCapriccio n. 1: Andante\nCapriccio n. 4: Maestoso\nCapriccio n. 5: Agitato\nCapriccio n. 7: Posato\nCapriccio n. 9: Allegretto\nCapriccio n. 13: Allegro\nCapriccio n. 14: Moderato\nCapriccio n. 17: Sostenuto\, Andante\nCapriccio n. 20: Allegretto\nCapriccio n. 23: Posato\nCapriccio n. 24: Tema con 11 variazioni. Quasi presto
URL:https://www.teatromonfalcone.it/eventi/le-vette-del-virtuosismo/
CATEGORIES:Musica
ATTACH;FMTTYPE=image/webp:https://www.teatromonfalcone.it/wp-content/uploads/2024/08/Ning-Feng_3176_credit-Felix-Broede.webp
END:VEVENT
BEGIN:VEVENT
DTSTART;TZID=Europe/Rome:20241208T160000
DTEND;TZID=Europe/Rome:20241208T160000
DTSTAMP:20260421T113046
CREATED:20240812T084048Z
LAST-MODIFIED:20241206T121755Z
UID:10000747-1733673600-1733673600@www.teatromonfalcone.it
SUMMARY:Pavao Mašić
DESCRIPTION:Alfred Hollins (1865 – 1942)\nConcert ouverture n. 2 in Do minore \nBlagoje Bersa (1873 – 1934)\nIdylle – Il giorno delle mie nozze\, op. 25b\ntrascrizione per organo di Pavao Mašić \nFranz Liszt (1811 – 1886)\nda Légendes\, S.175\, n. 1\nSaint François d’Assise: La prédication aux oiseaux \nAnđelko Klobučar (1931 – 2016)\nIntrada\, pastorale e toccata \nGiovanni Battista Martini (1706 – 1784)\nAdagio in Re maggiore \nFelix Mendelssohn-Bartholdy (1809 – 1847)\nSonata n. 2 in Do minore\, op. 65
URL:https://www.teatromonfalcone.it/eventi/pavao-masic/
CATEGORIES:Concerti per Organo,Musica
ATTACH;FMTTYPE=image/webp:https://www.teatromonfalcone.it/wp-content/uploads/2024/08/Pavao-Masic.webp
END:VEVENT
BEGIN:VEVENT
DTSTART;TZID=Europe/Rome:20241217T204500
DTEND;TZID=Europe/Rome:20241218T204500
DTSTAMP:20260421T113046
CREATED:20240813T075810Z
LAST-MODIFIED:20241216T101117Z
UID:10000757-1734468300-1734554700@www.teatromonfalcone.it
SUMMARY:Re Lear
DESCRIPTION:di William Shakespeare\ntraduzione di Ferdinando Bruni\nuno spettacolo di Ferdinando Bruni e Francesco Frongia\ne con\nMauro Bernardi\, Elena Ghiaurov\, Mauro Lamantia\, Giuseppe Lanino\, Viola Marietti\, Giancarlo Previati\, Alessandro Quattro\, Elena Russo Arman\, Nicola Stravalaci\, Umberto Terruso\, Simone Tudda \nluci\nMichele Ceglia\nsuono\nGianfranco Turco \nproduzione\nTeatro dell’Elfo
URL:https://www.teatromonfalcone.it/eventi/re-lear/
CATEGORIES:FuturaMente,Prosa
ATTACH;FMTTYPE=image/webp:https://www.teatromonfalcone.it/wp-content/uploads/2024/08/Re-Lear-Cover.webp
END:VEVENT
BEGIN:VEVENT
DTSTART;TZID=Europe/Rome:20241221T204500
DTEND;TZID=Europe/Rome:20241221T204500
DTSTAMP:20260421T113046
CREATED:20240813T080051Z
LAST-MODIFIED:20241218T120713Z
UID:10000758-1734813900-1734813900@www.teatromonfalcone.it
SUMMARY:Giulietta e Romeo
DESCRIPTION:Coreografia e regia di Fabrizio Monteverde\nmusiche di Sergej Prokofiev\nballetto in due atti liberamente ispirato alla tragedia di William Shakespeare\ndirezione artistica\nFrancesca Magnini \nAzzurra Schena\nnel ruolo di Giulietta \nPaolo Barbonaglia\nnel ruolo di Romeo \nscene\nFabrizio Monteverde\ncostumi\nEve Kohler\nlighting design\nEmanuele De Maria \nproduzione\nBalletto di Roma
URL:https://www.teatromonfalcone.it/eventi/giulietta-e-romeo/
CATEGORIES:FuturaMente,Prosa
ATTACH;FMTTYPE=image/webp:https://www.teatromonfalcone.it/wp-content/uploads/2024/08/Giulietta-e-Romeo-Balletto-di-Roma.webp
END:VEVENT
BEGIN:VEVENT
DTSTART;TZID=Europe/Rome:20250110T204500
DTEND;TZID=Europe/Rome:20250110T204500
DTSTAMP:20260421T113046
CREATED:20240812T075507Z
LAST-MODIFIED:20250108T143423Z
UID:10000738-1736541900-1736541900@www.teatromonfalcone.it
SUMMARY:Gitane\, zingarelle\, streghe e nobildonne
DESCRIPTION:Gioachino Rossini (1972 – 1868)\nda Il Barbiere Di Siviglia\nSinfonia* \nGeorges Bizet (1838 – 1875)\nda Carmen\nHabanera\nEntr’acte Atto III*\nChanson Bohème \nGiuseppe Verdi (1813 – 1901)\nda Il Trovatore\nLa Zingarella – Stride la vampa \nda Aida\nMarcia trionfale* \nda Don Carlo\nCoro – Scena – Canzone del velo \nCamille Saint-Saëns (1835 – 1921)\nda Il Carnevale degli animali\nIl cigno* \nda Samson et Dalila\nMon coeur s’ouvre à ta voix \nGiacomo Puccini (1858 – 1924)\nda Manon Lescaut\nIntermezzo* \nFrancesco Cilea (1866 – 1950)\nda Adriana Lecouvreur\nAcerba voluttà \nGeorge Gershwin (1898 – 1937)\nda Porgy and Bess\nSummertime*\nMy Man’s Gone Now \n*  Trio Rachmaninov
URL:https://www.teatromonfalcone.it/eventi/gitane-zingarelle-streghe-e-nobildonne/
CATEGORIES:Musica
ATTACH;FMTTYPE=image/webp:https://www.teatromonfalcone.it/wp-content/uploads/2024/08/Chiuritrio.webp
END:VEVENT
BEGIN:VEVENT
DTSTART;TZID=Europe/Rome:20250117T204500
DTEND;TZID=Europe/Rome:20250117T204500
DTSTAMP:20260421T113046
CREATED:20240812T075754Z
LAST-MODIFIED:20250115T120354Z
UID:10000739-1737146700-1737146700@www.teatromonfalcone.it
SUMMARY:Note di un viaggio / Dal Classicismo al Moderno
DESCRIPTION:Ludwig van Beethoven (1770 – 1827)\nSonata per corno e pianoforte in Fa maggiore\, op. 17\ntrascrizione per violoncello e pianoforte \nJohannes Brahms (1833 – 1897)\nSonata n. 2 in Fa maggiore per violoncello e pianoforte\, op. 99 \n*** \nMario Castelnuovo-Tedesco (1895 – 1968)\nToccata\, op. 83 per violoncello e pianoforte \nFrancis Poulenc (1899 – 1963)\nSonata per violoncello\, FP 143\nper violoncello e pianoforte
URL:https://www.teatromonfalcone.it/eventi/note-di-un-viaggio-dal-classicismo-al-moderno/
CATEGORIES:Musica
ATTACH;FMTTYPE=image/webp:https://www.teatromonfalcone.it/wp-content/uploads/2024/08/Kromer_Pagano.webp
END:VEVENT
BEGIN:VEVENT
DTSTART;TZID=Europe/Rome:20250118T180000
DTEND;TZID=Europe/Rome:20250118T180000
DTSTAMP:20260421T113046
CREATED:20250110T142924Z
LAST-MODIFIED:20250110T171003Z
UID:10000770-1737223200-1737223200@www.teatromonfalcone.it
SUMMARY:Dialogo italiano per flauto e chitarra
DESCRIPTION:Gioachino Rossini (1792 – 1868)\nda Tancredi\nOuverture\nper flauto e chitarra\ntrascrizione di Ferdinando Carulli \nSaverio Mercadante (1795 – 1870)\nVariazioni su “Là ci darem la mano” di W.A. Mozart\nper flauto solo \nMauro Giuliani (1781 – 1829)\nGrand duo concertante\, op. 85\nper flauto e chitarra \n*** \nMario Castelnuovo-Tedesco (1895 – 1968)\nCapriccio diabolico\nper chitarra sola \nFranco Margola (1908 – 1992)\nSonata Quarta\nper flauto e chitarra \nMario Castelnuovo-Tedesco (1895 –1968)\nSonatina\, op. 205\nper flauto e chitarra
URL:https://www.teatromonfalcone.it/eventi/dialogo-italiano-per-flauto-e-chitarra/
CATEGORIES:Musica,Talenti in scena
ATTACH;FMTTYPE=image/webp:https://www.teatromonfalcone.it/wp-content/uploads/2025/01/Dialogo-italiano-2.webp
END:VEVENT
BEGIN:VEVENT
DTSTART;TZID=Europe/Rome:20250119T170000
DTEND;TZID=Europe/Rome:20250119T170000
DTSTAMP:20260421T113046
CREATED:20240812T094624Z
LAST-MODIFIED:20240925T132427Z
UID:10000752-1737306000-1737306000@www.teatromonfalcone.it
SUMMARY:La fabbrica del tempo
DESCRIPTION:regia\, drammaturgia\, disegno luci e scene di Michelangelo Campanale\ncon Dario Cadei\, Giuseppe Semeraro \ncura del movimento Vito Cassano\nscenotecnica Michelangelo Volpe\ncostumi Maria Pascale\ntecnico Vincenzo Dipierro
URL:https://www.teatromonfalcone.it/eventi/la-fabbrica-del-tempo/
CATEGORIES:Piccolipalchi
ATTACH;FMTTYPE=image/jpeg:https://www.teatromonfalcone.it/wp-content/uploads/2024/08/LaFabbricaDelTempo-4-cover.jpg
END:VEVENT
BEGIN:VEVENT
DTSTART;TZID=Europe/Rome:20250121T204500
DTEND;TZID=Europe/Rome:20250122T204500
DTSTAMP:20260421T113046
CREATED:20240813T080313Z
LAST-MODIFIED:20250117T125230Z
UID:10000759-1737492300-1737578700@www.teatromonfalcone.it
SUMMARY:Amanti
DESCRIPTION:Una commedia scritta e diretta da Ivan Cotroneo\ne con\nOrsetta De Rossi\, Eleonora Russo\, Diego d’Elia \nscene\nMonica Sironi\ncostumi\nAlberto Moretti\nluci\nGianfilippo Corticelli \nproduzione\nTeatro Diana
URL:https://www.teatromonfalcone.it/eventi/amanti/
CATEGORIES:Prosa
ATTACH;FMTTYPE=image/webp:https://www.teatromonfalcone.it/wp-content/uploads/2024/08/Amanti.webp
END:VEVENT
BEGIN:VEVENT
DTSTART;TZID=Europe/Rome:20250124T204500
DTEND;TZID=Europe/Rome:20250124T204500
DTSTAMP:20260421T113046
CREATED:20240812T080314Z
LAST-MODIFIED:20250122T160417Z
UID:10000740-1737751500-1737751500@www.teatromonfalcone.it
SUMMARY:Orchestra San Marco di Pordenone
DESCRIPTION:Richard Strauss (1864 – 1949)\nConcerto in Re maggiore per oboe e piccola orchestra \n*** \nLudwig van Beethoven (1770 – 1827)\nSinfonia n. 7 in La maggiore\, op. 92
URL:https://www.teatromonfalcone.it/eventi/orchestra-san-marco-di-pordenone/
CATEGORIES:Musica
ATTACH;FMTTYPE=image/webp:https://www.teatromonfalcone.it/wp-content/uploads/2024/08/OrchestraS.Marco_2_ph.AngeloSalvin.webp
END:VEVENT
BEGIN:VEVENT
DTSTART;TZID=Europe/Rome:20250201T180000
DTEND;TZID=Europe/Rome:20250201T180000
DTSTAMP:20260421T113046
CREATED:20250128T120603Z
LAST-MODIFIED:20250129T113457Z
UID:10000771-1738432800-1738432800@www.teatromonfalcone.it
SUMMARY:Martin Rizov
DESCRIPTION:Maurice Ravel (1875 – 1937)\nMiroirs\nNoctuelles\nOiseaux tristes\nUne barque sur l’océan\nAlborada del gracioso\nLa Vallée des Cloches \nGaspard de la nuit (Trois poèmes pour piano d’après Aloysius Bertrand)\nOndine\nLe gibet\nScarbo
URL:https://www.teatromonfalcone.it/eventi/martin-rizov/
CATEGORIES:Musica,Talenti in scena
ATTACH;FMTTYPE=image/jpeg:https://www.teatromonfalcone.it/wp-content/uploads/2025/01/01-02-25.Rizov-cover.jpg
END:VEVENT
BEGIN:VEVENT
DTSTART;TZID=Europe/Rome:20250208T204500
DTEND;TZID=Europe/Rome:20250209T204500
DTSTAMP:20260421T113046
CREATED:20240813T080346Z
LAST-MODIFIED:20250129T113654Z
UID:10000760-1739047500-1739133900@www.teatromonfalcone.it
SUMMARY:Il sogno di una cosa
DESCRIPTION:Liberamente tratto dal capolavoro di Pier Paolo Pasolini\nproduzione\nPierfrancesco Pisani\nper\nInfinito Teatro e Argot Produzioni\ncoproduzione con\nFondazione Teatro della Toscana\ncon il contributo di\nRegione Toscana
URL:https://www.teatromonfalcone.it/eventi/il-sogno-di-una-cosa/
CATEGORIES:Prosa
ATTACH;FMTTYPE=image/webp:https://www.teatromonfalcone.it/wp-content/uploads/2024/08/GERMANO-Cover.webp
END:VEVENT
BEGIN:VEVENT
DTSTART;TZID=Europe/Rome:20250209T160000
DTEND;TZID=Europe/Rome:20250209T160000
DTSTAMP:20260421T113046
CREATED:20240812T084252Z
LAST-MODIFIED:20250205T162855Z
UID:10000748-1739116800-1739116800@www.teatromonfalcone.it
SUMMARY:The Best Of… Corelli\, Vivaldi & Tartini
DESCRIPTION:Arcangelo Corelli (1653 – 1713)\nSonata in Fa maggiore\, op. 5 n. 4 \nAntonio Vivaldi (1678 – 1741)\nSonata n. 1 in Sol minore\, op. 2 \nArcangelo Corelli\nSonata in Fa Maggiore\, op. 5 n. 10 \nGiuseppe Tartini (1692 – 1770)\nVariazioni su Gavotta di Corelli \nJohann Sebastian Bach (1685 – 1750)\nConcerto in Do maggiore\, BWV 976\ndal “Concerto per violino\, archi e basso continuo n. 12\, RV 265” di Antonio Vivaldi \nArcangelo Corelli\nSonata in Sol minore\, op. 5 n. 12\, “La Follia”
URL:https://www.teatromonfalcone.it/eventi/the-best-of-corelli-vivaldi-tartini/
CATEGORIES:Concerti per Organo,Musica
ATTACH;FMTTYPE=image/webp:https://www.teatromonfalcone.it/wp-content/uploads/2024/08/Manuel-Tomadin-Manuel-Staropoli.webp
END:VEVENT
BEGIN:VEVENT
DTSTART;TZID=Europe/Rome:20250214T204500
DTEND;TZID=Europe/Rome:20250214T204500
DTSTAMP:20260421T113046
CREATED:20240812T080920Z
LAST-MODIFIED:20250212T093647Z
UID:10000741-1739565900-1739565900@www.teatromonfalcone.it
SUMMARY:Tre secoli in Duo
DESCRIPTION:Johann Sebastian Bach (1685 – 1750)\nSuite n. 1 in Sol maggiore per violoncello solo\, BWV 1007 \nEugène Ysaÿe (1858 – 1931)\nda 6 Sonate per violino solo\, op. 27\nSonata n. 2 in La minore (dedicata a Jacques Thibaud) \nIannis Xenakis (1922 – 2001)\nDhipli Zyia\nper violino e violoncello \nJohn Dowland (1563 – 1626) / Melchior Schildt (1592 – 1667)\nPavana lachrymæ\ntrascrizione per violoncello di Enrico Bronzi \nFrancisco Tárrega (1852 – 1909)\nRecuerdos de la Alhambra\ntrascrizione per violoncello di Enrico Bronzi \nFriedrich Kreisler (1875 – 1962)\nRecitativo e Scherzo-Caprice per violino solo in Re minore\, op. 6 \nNiccolò Paganini (1782 – 1840)\nda 24 Capricci per violino solo\, op. 1\nCapriccio n. 24: Tema con 11 variazioni. Quasi presto \nMaurice Ravel (1875 – 1937)\nSonata in La minore per violino e violoncello\, op. 73
URL:https://www.teatromonfalcone.it/eventi/tre-secoli-in-duo/
CATEGORIES:Musica
ATTACH;FMTTYPE=image/webp:https://www.teatromonfalcone.it/wp-content/uploads/2024/08/Bronzi-Milenkovich.webp
END:VEVENT
BEGIN:VEVENT
DTSTART;TZID=Europe/Rome:20250215T180000
DTEND;TZID=Europe/Rome:20250215T180000
DTSTAMP:20260421T113046
CREATED:20250128T121355Z
LAST-MODIFIED:20250212T114919Z
UID:10000772-1739642400-1739642400@www.teatromonfalcone.it
SUMMARY:Romanze da camera
DESCRIPTION:Francesco Paolo Tosti (1846 – 1916)\nMalia\nIdeale\nSogno\nNon t’amo più\nChanson de l’adieu\nMarechiare \nFranz Liszt (1811 – 1886)\nParafrasi da concerto sul “Rigoletto” di Verdi\, S. 434\n \nGiuseppe Verdi (1813-1901)\nNon t’accostare all’urna\nMore\, Elisa\, lo stanco poeta\nIn solitaria stanza\nNell’orror di notte scura\nPerduta ho la pace\nDeh\, pietoso\, oh Addolorata\n \nGiacomo Puccini (1858 – 1924)\nA te\nSole e amore\nTerra e mare\nMorire?\nStoriella d’amore\nCanto d’anime
URL:https://www.teatromonfalcone.it/eventi/romanze-da-camera/
CATEGORIES:Musica,Talenti in scena
ATTACH;FMTTYPE=image/jpeg:https://www.teatromonfalcone.it/wp-content/uploads/2025/01/15-02-25.Lazovic-Petrovic.jpg
END:VEVENT
BEGIN:VEVENT
DTSTART;TZID=Europe/Rome:20250220T204500
DTEND;TZID=Europe/Rome:20250220T204500
DTSTAMP:20260421T113046
CREATED:20240813T080759Z
LAST-MODIFIED:20250217T113412Z
UID:10000761-1740084300-1740084300@www.teatromonfalcone.it
SUMMARY:Teatro Delusio
DESCRIPTION:di Paco González\, Björn Leese\, Hajo Schüler e Michael Vogel\ncon\nAndrès Angulo\, Dana Schmidt\, Björn Leese\, Johannes Stubenvoll\, Daniel Matheus\, Michael Vogel\, Thomas van Ouwerker\, Sebastian Kautz\, Hajo Schüler \nregia e scenografia di\nMichael Vogel\nmaschere\nHajo Schüler\ncostumi\nEliseu R. Weide\ndisegno luci\nReinhard Hubert \nproduzione\nFamilie Flöz / Arena Berlin / Theaterhaus Stuttgart
URL:https://www.teatromonfalcone.it/eventi/teatro-delusio/
CATEGORIES:FuturaMente,Prosa
ATTACH;FMTTYPE=image/webp:https://www.teatromonfalcone.it/wp-content/uploads/2024/08/TeatroDelusio-cover.webp
END:VEVENT
BEGIN:VEVENT
DTSTART;TZID=Europe/Rome:20250221T204500
DTEND;TZID=Europe/Rome:20250221T204500
DTSTAMP:20260421T113046
CREATED:20240812T081814Z
LAST-MODIFIED:20250220T093838Z
UID:10000742-1740170700-1740170700@www.teatromonfalcone.it
SUMMARY:Caraviaggianti
DESCRIPTION:testi di Stefano Benni\nideazione e composizione musicale di Rita Marcotulli\nvisual designer\nKarmachina\nlight design\nEva Bruno \nproduzione\nTadaam\ngestione diritti sulle immagini\nMinistero della Cultura
URL:https://www.teatromonfalcone.it/eventi/caraviaggianti/
CATEGORIES:ControCanto,Musica
ATTACH;FMTTYPE=image/webp:https://www.teatromonfalcone.it/wp-content/uploads/2024/08/Caraviaggianti-cover.webp
END:VEVENT
BEGIN:VEVENT
DTSTART;TZID=Europe/Rome:20250228T204500
DTEND;TZID=Europe/Rome:20250301T204500
DTSTAMP:20260421T113046
CREATED:20240813T081653Z
LAST-MODIFIED:20250226T084443Z
UID:10000762-1740775500-1740861900@www.teatromonfalcone.it
SUMMARY:Crisi di nervi. Tre atti unici
DESCRIPTION:di Anton Čechov\nregia di Peter Stein\n“L’orso”\ncon Maddalena Crippa\, Alessandro Sampaoli\, Sergio Basile\n“I danni del tabacco”\ncon Gianluigi Fogacci\n“La domanda di matrimonio”\ncon Alessandro Averone\, Sergio Basile\, Emilia Scatigno\nadattamento di\nPeter Stein e Carlo Bellamio\nassistente alla regia\nCarlo Bellamio\nscene\nFerdinand Woegerbauer\ncostumi\nAnna Maria Heinreich\nluci\nAndrea Violato\nproduzione\n Tieffe Teatro Milano / Teatro Quirino Vittorio Gassmann
URL:https://www.teatromonfalcone.it/eventi/crisi-di-nervi-tre-atti-unici/
CATEGORIES:Prosa
ATTACH;FMTTYPE=image/webp:https://www.teatromonfalcone.it/wp-content/uploads/2024/08/CrisiNervi-cover.webp
END:VEVENT
END:VCALENDAR