BEGIN:VCALENDAR
VERSION:2.0
PRODID:-//Teatro Comunale di Monfalcone - ECPv6.15.20//NONSGML v1.0//EN
CALSCALE:GREGORIAN
METHOD:PUBLISH
X-ORIGINAL-URL:https://www.teatromonfalcone.it
X-WR-CALDESC:Eventi per Teatro Comunale di Monfalcone
REFRESH-INTERVAL;VALUE=DURATION:PT1H
X-Robots-Tag:noindex
X-PUBLISHED-TTL:PT1H
BEGIN:VTIMEZONE
TZID:Europe/Rome
BEGIN:DAYLIGHT
TZOFFSETFROM:+0100
TZOFFSETTO:+0200
TZNAME:CEST
DTSTART:20220327T010000
END:DAYLIGHT
BEGIN:STANDARD
TZOFFSETFROM:+0200
TZOFFSETTO:+0100
TZNAME:CET
DTSTART:20221030T010000
END:STANDARD
BEGIN:DAYLIGHT
TZOFFSETFROM:+0100
TZOFFSETTO:+0200
TZNAME:CEST
DTSTART:20230326T010000
END:DAYLIGHT
BEGIN:STANDARD
TZOFFSETFROM:+0200
TZOFFSETTO:+0100
TZNAME:CET
DTSTART:20231029T010000
END:STANDARD
BEGIN:DAYLIGHT
TZOFFSETFROM:+0100
TZOFFSETTO:+0200
TZNAME:CEST
DTSTART:20240331T010000
END:DAYLIGHT
BEGIN:STANDARD
TZOFFSETFROM:+0200
TZOFFSETTO:+0100
TZNAME:CET
DTSTART:20241027T010000
END:STANDARD
BEGIN:DAYLIGHT
TZOFFSETFROM:+0100
TZOFFSETTO:+0200
TZNAME:CEST
DTSTART:20250330T010000
END:DAYLIGHT
BEGIN:STANDARD
TZOFFSETFROM:+0200
TZOFFSETTO:+0100
TZNAME:CET
DTSTART:20251026T010000
END:STANDARD
END:VTIMEZONE
BEGIN:VEVENT
DTSTART;TZID=Europe/Rome:20231104T180000
DTEND;TZID=Europe/Rome:20231104T180000
DTSTAMP:20260421T113015
CREATED:20231026T090434Z
LAST-MODIFIED:20231030T154739Z
UID:10000721-1699120800-1699120800@www.teatromonfalcone.it
SUMMARY:Sofia De Martis / Matteo Di Bella
DESCRIPTION:Franz Schubert (1797 – 1828)\nSonatina n. 1 in Re maggiore per violino e pianoforte\, op. 137\, D 384\n \nMaurice Ravel (1875 – 1937)\nTzigane\, Rapsodie de concert \n*** \nWolfgang Amadeus Mozart (1756 – 1791)\nSonata per violino e pianoforte n. 21 in Mi minore\, K 304 \nJohannes Brahms (1833 – 1897)\nSonata n. 3 in Re minore per violino e pianoforte\, op. 108
URL:https://www.teatromonfalcone.it/eventi/sofia-de-martis-matteo-di-bella/
CATEGORIES:Musica,Talenti in scena
ATTACH;FMTTYPE=image/jpeg:https://www.teatromonfalcone.it/wp-content/uploads/2023/10/De-Martis-di-bella.jpg
END:VEVENT
BEGIN:VEVENT
DTSTART;TZID=Europe/Rome:20231110T204500
DTEND;TZID=Europe/Rome:20231110T204500
DTSTAMP:20260421T113015
CREATED:20230803T081530Z
LAST-MODIFIED:20240214T122537Z
UID:10000689-1699649100-1699649100@www.teatromonfalcone.it
SUMMARY:Paganiniana
DESCRIPTION:Giuseppe Gibboni\, violino\nPremio Internazionale Paganini 2021\nCarlotta Dalia\, chitarra\nPremio International Guitar Festival and Competition “Niccolò Paganini” 2019\n  \nNiccolò Paganini (1782 – 1840)\nSonata Concertata in La maggiore per chitarra e violino\, op. 61\nCapriccio n. 1 – Andante\nCapriccio n. 5 – Agitato\nCapriccio n. 24 – Tema con 11 variazioni. Quasi presto\ndai 24 Capricci per violino solo\, op. 1 \nMario Castelnuovo-Tedesco (1895 – 1968)\nCapriccio XVIII “El sueño de la razón produce mostruos”\ndai 24 Caprichos de Goya\, op. 195 per chitarra \nIsaac Albéniz (1860 – 1909)\nAsturias \nAstor Piazzolla (1921 – 1992)\nBordel 1900\nCafé 1930\nNightclub 1960\nda Histoire du Tango\nper violino e chitarra \nNiccolò Paganini (1782 – 1840)\nLa Campanella
URL:https://www.teatromonfalcone.it/eventi/paganiniana/
CATEGORIES:Musica
ATTACH;FMTTYPE=image/webp:https://www.teatromonfalcone.it/wp-content/uploads/2023/08/2-Dalia-Gibboni.webp
END:VEVENT
BEGIN:VEVENT
DTSTART;TZID=Europe/Rome:20231111T180000
DTEND;TZID=Europe/Rome:20231111T180000
DTSTAMP:20260421T113015
CREATED:20231026T091205Z
LAST-MODIFIED:20231108T144450Z
UID:10000722-1699725600-1699725600@www.teatromonfalcone.it
SUMMARY:Luca Chiandotto
DESCRIPTION:Antonín Dvořák (1841 – 1904)\nSelezione dalle Humoresques\, op. 101 \nIsaac Albéniz (1860 – 1909)\nSelezione da Iberia \nMaurice Ravel (1875 – 1937)\nLe tombeau de Couperin
URL:https://www.teatromonfalcone.it/eventi/luca-chiandotto/
CATEGORIES:Musica,Talenti in scena
ATTACH;FMTTYPE=image/jpeg:https://www.teatromonfalcone.it/wp-content/uploads/2023/10/Chiandotto-cover.jpg
END:VEVENT
BEGIN:VEVENT
DTSTART;TZID=Europe/Rome:20231114T204500
DTEND;TZID=Europe/Rome:20231115T204500
DTSTAMP:20260421T113015
CREATED:20230804T080718Z
LAST-MODIFIED:20240214T115941Z
UID:10000707-1699994700-1700081100@www.teatromonfalcone.it
SUMMARY:Una volta nella vita (Once)
DESCRIPTION:su licenza di Music Theatre International – www.mtishows.eu\nlibretto Enda Walsh\nmusiche e liriche Glen Hansard & Markéta Irglová\ntratto dal film Once scritto e diretto da John Carney\ntraduzione italiana Emma Ray Rieti\ntraduzione e adattamento liriche italiane Matteo Volpotti\ndirezione musicale\nAntonio Torella \ncoreografie\nGillian Bruce \ndisegno fonico\nEnrico Porcelli \ndisegno luci\nValerio Tiberi \nscene\nStefano Antozzi \ncostumi\nSilvia Cerpolini\, Fabio Cicolani \nvideoscenografie\nDigitalskenè \nregia\nMauro Simone  \ncon\nLuca Gaudiano Ragazzo (chitarra)\nJessica Lorusso Ragazza (pianoforte)\nMarisa Della Pasqua Baruska (cajon\, percussioni)\nMaurizio Desinan Papà (chitarra\, basso)\nMatteo Volpotti Direttore di banca (chitarra\, mandolino)\nGiulio Benvenuti Billy (violoncello)\nAndrea Luterotti Andrej (banjo\, melodica\, chitarra)\nMonja Marrone Reza (pianoforte\, chitarra\, ukulele\, fisarmonica\, percussioni)\nMiriam Pilla Ex ragazza (violino)\nAndrea Salvadè Svec (fisarmonica\, batteria)\nAngela Ranica Swing Off Stage \ne con\nLeonardo Mazzarotto nel ruolo di Eamon (violino)
URL:https://www.teatromonfalcone.it/eventi/una-volta-nella-vita-once/
CATEGORIES:FuturaMente,Prosa
ATTACH;FMTTYPE=image/webp:https://www.teatromonfalcone.it/wp-content/uploads/2023/08/01.Once_UNA-VOLTA-NELLA-VITA_sc_09_phGiuliaMarangoni.webp
END:VEVENT
BEGIN:VEVENT
DTSTART;TZID=Europe/Rome:20231121T204500
DTEND;TZID=Europe/Rome:20231122T204500
DTSTAMP:20260421T113015
CREATED:20230804T081328Z
LAST-MODIFIED:20240214T120146Z
UID:10000708-1700599500-1700685900@www.teatromonfalcone.it
SUMMARY:Gerico Innocenza Rosa
DESCRIPTION:Scritto e diretto da Luana Rondinelli\nscene di\nOrtiche Spazi in Scena \ncostumi di\nAlessandro Lai \ndisegno luci di\nDaniele Savi \nmusiche di\nMassimiliano Pace \nproduzione\nTSA – Teatro Stabile d’Abruzzo / Savà Produzioni Creative / Stefano Francioni Produzioni
URL:https://www.teatromonfalcone.it/eventi/gerico-innocenza-rosa/
CATEGORIES:Prosa
ATTACH;FMTTYPE=image/webp:https://www.teatromonfalcone.it/wp-content/uploads/2023/08/02.Valeria-Solarino-in-GERICO-INNOCENZA-ROSA-©Serena-Gallorini.webp
END:VEVENT
BEGIN:VEVENT
DTSTART;TZID=Europe/Rome:20231124T204500
DTEND;TZID=Europe/Rome:20231124T204500
DTSTAMP:20260421T113015
CREATED:20230803T082142Z
LAST-MODIFIED:20240214T120347Z
UID:10000690-1700858700-1700858700@www.teatromonfalcone.it
SUMMARY:Ballet Suite
DESCRIPTION:Sergej Prokofiev (1891 – 1953)\nRomeo e Giulietta\ntrascrizione per sestetto di Fabrice Pierre \nIgor Stravinskij (1882 – 1971)\nPetrushka\ntrascrizione per sestetto di Yuval Shapiro
URL:https://www.teatromonfalcone.it/eventi/ballet-suite/
CATEGORIES:Musica
ATTACH;FMTTYPE=image/webp:https://www.teatromonfalcone.it/wp-content/uploads/2023/08/3.Ballet-Suite@Riccardo-Musacchio.webp
END:VEVENT
BEGIN:VEVENT
DTSTART;TZID=Europe/Rome:20231130T204500
DTEND;TZID=Europe/Rome:20231130T204500
DTSTAMP:20260421T113015
CREATED:20230804T082312Z
LAST-MODIFIED:20240214T121035Z
UID:10000709-1701377100-1701377100@www.teatromonfalcone.it
SUMMARY:Argonauti e Xanax
DESCRIPTION:con Luigi Aquilino\, Denise Brambillasca\,\nGaia Carmagnani\, Pietro De Nova\, Eugenio Fea\,\nIlaria Longo\, Alessandro Savarese\nregia di\nDaniele Vagnozzi \nassistente alla regia\nNoemi Radice \nassistente alla drammaturgia\nValentina Sichetti \nscenografie e costumi di\nGaia Carmagnani \npaesaggi sonori di\nDanilo Randazzo \ndisegno luci\nManfredi Michelazzi \norganizzazione di\nCarlotta Spitaleri\,\nCamilla Ambrosini \nproduzione\nCompagnia Caterpillar \n  \nCon il patrocinio dell’Ordine degli Psicologi della Lombardia\nProdotto nell’ambito della residenza artistica al Teatro Filodrammatici di Milano\nCon il sostegno di NEXT – Laboratorio delle idee per la produzione e la distribuzione dello spettacolo dal vivo lombardo – Edizione 2022 / Fondazione della Comunità Monza e Brianza Onlus – Youth Bank 2019 / Teatro Binario 7 di Monza / Progetto Scuole in collaborazione con Jonas Monza e Brianza Onlus presso il Liceo Carlo Porta di Monza 2022\nSi ringrazia PACTA dei Teatri / Progetto Zone Libre di ACS Abruzzo Circuito Spettacolo
URL:https://www.teatromonfalcone.it/eventi/argonauti-e-xanax/
CATEGORIES:FuturaMente,Prosa
ATTACH;FMTTYPE=image/webp:https://www.teatromonfalcone.it/wp-content/uploads/2023/08/03.Argonauti-e-Xanax-Foto-di-scena-1.webp
END:VEVENT
BEGIN:VEVENT
DTSTART;TZID=Europe/Rome:20231201T204500
DTEND;TZID=Europe/Rome:20231201T204500
DTSTAMP:20260421T113015
CREATED:20230803T092105Z
LAST-MODIFIED:20240214T122506Z
UID:10000691-1701463500-1701463500@www.teatromonfalcone.it
SUMMARY:La grande Opera in Jazz
DESCRIPTION:Danilo Rea\, pianoforte\n  \nIo son l’umile ancella\nMaria Caniglia (1905 – 1979)\nda Adriana Lecouvreur di Francesco Cilea \nE lucevan le stelle\nBeniamino Gigli (1890 – 1957)\nda Tosca di Giacomo Puccini \nCasta Diva\nMaria Callas (1923 – 1977)\nda Norma di Vincenzo Bellini \nNessun dorma\nMario Del Monaco (1915 – 1982)\nda Turandot di Giacomo Puccini \nAddio al passato\nElisabeth Schwarzkopf (1915 – 2006)\nda Traviata di Giuseppe Verdi \nAve Maria\nTito Schipa (1888 – 1965)\nda Cavalleria rusticana di Pietro Mascagni \nTu\, ca nun chiagne\nEnrico Caruso (1873 – 1921)\ndi Libero Bovio\, Ernesto De Curtis \nUn bel dì vedremo\nAmelita Galli-Curci (1882 – 1963)\nda Madama Butterfly di Giacomo Puccini \nDi quella pira\nGiacomo Lauri Volpi (1892 – 1979)\nda Trovatore di Giuseppe Verdi \nO mio babbino caro\nElisabeth Schwarzkopf\nda Gianni Schicchi di Giacomo Puccini \nUna furtiva lagrima\nEnrico Caruso\nda L’elisir d’amore di Gaetano Donizetti \nDal tuo stellato soglio\nNazzareno De Angelis (1881 – 1962)\nda Mosè di Gioachino Rossini \n‘O sole mio\nEnrico Caruso\ndi Giovanni Capurro\, Eduardo Di Capua\, Alfredo Mazzucchi
URL:https://www.teatromonfalcone.it/eventi/la-grande-opera-in-jazz/
CATEGORIES:ControCanto,Musica
ATTACH;FMTTYPE=image/webp:https://www.teatromonfalcone.it/wp-content/uploads/2023/08/4.Danilo-Rea_Foto-Luigi-Ceccon_Autumn-2021_-178.webp
END:VEVENT
BEGIN:VEVENT
DTSTART;TZID=Europe/Rome:20231203T170000
DTEND;TZID=Europe/Rome:20231203T170000
DTSTAMP:20260421T113015
CREATED:20240104T103519Z
LAST-MODIFIED:20240117T172240Z
UID:10000731-1701622800-1701622800@www.teatromonfalcone.it
SUMMARY:Rime insaponate
DESCRIPTION:testo di Alekos Ottaviucci e Gabriele Duma\ncon Alekos Ottaviucci\nmusiche di Guido Sodo\ncostumi e scene di Andrea Stanisci\nregia di Gabriele Duma \nuno spettacolo Opificio d’Arte Scenica\nproduzione Alekos il poeta delle bolle / Accademia Perduta Romagna Teatri \nbolle di sapone e teatro di parole in rima\nper tutti
URL:https://www.teatromonfalcone.it/eventi/rime-insaponate/
CATEGORIES:Piccolipalchi
ATTACH;FMTTYPE=image/jpeg:https://www.teatromonfalcone.it/wp-content/uploads/2024/01/Rime-insaponate-cover.jpg
END:VEVENT
BEGIN:VEVENT
DTSTART;TZID=Europe/Rome:20231207T204500
DTEND;TZID=Europe/Rome:20231207T204500
DTSTAMP:20260421T113015
CREATED:20230803T075405Z
LAST-MODIFIED:20240214T121428Z
UID:10000688-1701981900-1701981900@www.teatromonfalcone.it
SUMMARY:Fvg Orchestra / Elia Cecino / Paolo Paroni
DESCRIPTION:Elia Cecino\, pianoforte\nPremio Iturbi 2023\nSergej Rachmaninov (1873 – 1943)\nConcerto n. 2 in Do minore per pianoforte e orchestra\, op. 18 \nLudwig van Beethoven (1770 – 1827)\nSinfonia n. 3 in Mi bemolle maggiore\, op. 55 “Eroica”
URL:https://www.teatromonfalcone.it/eventi/fvg-orchestra/
CATEGORIES:Musica
ATTACH;FMTTYPE=image/webp:https://www.teatromonfalcone.it/wp-content/uploads/2023/08/1.FVG-orchestra.webp
END:VEVENT
BEGIN:VEVENT
DTSTART;TZID=Europe/Rome:20231208T160000
DTEND;TZID=Europe/Rome:20231208T160000
DTSTAMP:20260421T113015
CREATED:20230804T073734Z
LAST-MODIFIED:20231206T134819Z
UID:10000703-1702051200-1702051200@www.teatromonfalcone.it
SUMMARY:Mario Perestegi
DESCRIPTION:Gastone de Zuccoli (1887 – 1958)\nToccata solenne \nOleg Yanchenko (1939 – 2002)\nMeditazione \nCésar Franck (1822 – 1890)\nPièce Héroïque \nJohann Sebastian Bach (1685 – 1750)\nConcerto in Sol maggiore\, BWV 592\nNun komm’ der Heiden Heiland a 2 Clav e Pedale\, BWV 659\nIn Organo pleno\, BWV 660 \nFranjo Lučić (1889 – 1972)\nFantazia in Do minore \nAnđelko Klobučar (1931 – 2016)\nPartita “Ad Pavlinos”
URL:https://www.teatromonfalcone.it/eventi/mario-parestegi/
CATEGORIES:Concerti per Organo,Musica
ATTACH;FMTTYPE=image/jpeg:https://www.teatromonfalcone.it/wp-content/uploads/2023/08/mario-Perestegi-FOTO-2.jpg
END:VEVENT
BEGIN:VEVENT
DTSTART;TZID=Europe/Rome:20231212T204500
DTEND;TZID=Europe/Rome:20231213T204500
DTSTAMP:20260421T113015
CREATED:20230804T085701Z
LAST-MODIFIED:20240214T121558Z
UID:10000710-1702413900-1702500300@www.teatromonfalcone.it
SUMMARY:i Macbeth
DESCRIPTION:di Francesco Niccolini\nregia di Vetrano e Randisi\ndrammaturgia e interpretazione\nEnzo Vetrano\, Raffaella D’Avella\, Giovanni Moschella\, Giulio Germano Cervi\nscene e costumi di\nMela Dell’Erba \nluci di Max Mugnai\nArca Azzurra / Centro Teatrale Bresciano \ndirettore tecnico\nLorenzo Galletti \ndatore luci\nAntonio Rinaldi \nfonico\nNiccolò Bruni \namministrazione\nValentina Strambi\, Cecilia Benelli\, Simona Barbieri \nfoto\nLuca del Pia \nprogetto grafico\nFabrizio Rainieri \nufficio stampa\nFabrizio Calabrese \nproduzione\nArca Azzurra  \nin collaborazione con\nCooperativa Le Tre Corde/Compagnia Vetrano-Randisi\nTeatro Comunale di Imola Lo Stignani \nProgetto\nSUSPIR Shakespeare\ndrammaturgo infinito
URL:https://www.teatromonfalcone.it/eventi/i-macbeth/
CATEGORIES:FuturaMente,Prosa
ATTACH;FMTTYPE=image/webp:https://www.teatromonfalcone.it/wp-content/uploads/2023/08/04.i-Macbeth-una-scena-dello-spettacolo-ph-di-L.-Del-Pia-0.webp
END:VEVENT
BEGIN:VEVENT
DTSTART;TZID=Europe/Rome:20231214T204500
DTEND;TZID=Europe/Rome:20231214T204500
DTSTAMP:20260421T113015
CREATED:20230803T092814Z
LAST-MODIFIED:20240214T121738Z
UID:10000692-1702586700-1702586700@www.teatromonfalcone.it
SUMMARY:Sono un figlio / Ron
DESCRIPTION:
URL:https://www.teatromonfalcone.it/eventi/ron-sono-un-figlio/
CATEGORIES:ControCanto,Musica
ATTACH;FMTTYPE=image/webp:https://www.teatromonfalcone.it/wp-content/uploads/2023/08/5.Ron_.webp
END:VEVENT
BEGIN:VEVENT
DTSTART;TZID=Europe/Rome:20240112T204500
DTEND;TZID=Europe/Rome:20240112T204500
DTSTAMP:20260421T113015
CREATED:20230804T091712Z
LAST-MODIFIED:20240214T122010Z
UID:10000711-1705092300-1705092300@www.teatromonfalcone.it
SUMMARY:Da questa sera si recita a soggetto!
DESCRIPTION:Il Metodo Pirandello\ndrammaturgia di Paolo Rossi e Carlo G. Gabardini\ncon gli attori Emanuele Dell’Aquila\, Alex Orciari\, Caterina Gabanella\, Laura Bussani\, Alessandro Cassutti\ne con la partecipazione del pubblico\nideazione e regia di Paolo Rossi\naiuto regia\nLuca Orsini \nscene\nLorenza Gioberti \ncostumi\nElisabetta Menziani \nluci\nElena Vastano \nproduzione\nAgidi
URL:https://www.teatromonfalcone.it/eventi/da-questa-sera-si-recita-a-soggetto/
CATEGORIES:FuturaMente,Prosa
ATTACH;FMTTYPE=image/jpeg:https://www.teatromonfalcone.it/wp-content/uploads/2023/08/05.Da-questa-sera.jpg
END:VEVENT
BEGIN:VEVENT
DTSTART;TZID=Europe/Rome:20240113T180000
DTEND;TZID=Europe/Rome:20240113T180000
DTSTAMP:20260421T113015
CREATED:20231026T091618Z
LAST-MODIFIED:20240115T115159Z
UID:10000723-1705168800-1705168800@www.teatromonfalcone.it
SUMMARY:Voce che cammina
DESCRIPTION:Brani inediti di Alessia Trevisiol\n\ntesti di Alessia Trevisiol e Giacomo Vit\ncomposizioni e arrangiamenti di Alessia Trevisiol e Marco Battigelli \nVoce che cammina \nDue piatti forti \nAlghe per capelli  \nLe piccole cose\ncomposer Francesco Pagnini \nSarò zia \nGuerra \nVaffanculo\ncomposer Francesco Pagnini \nLe impazienti \nControluce \nElettrica
URL:https://www.teatromonfalcone.it/eventi/voce-che-cammina/
CATEGORIES:Musica,Talenti in scena
ATTACH;FMTTYPE=image/jpeg:https://www.teatromonfalcone.it/wp-content/uploads/2023/10/trevisiol-and-friends-cover.jpg
END:VEVENT
BEGIN:VEVENT
DTSTART;TZID=Europe/Rome:20240116T204500
DTEND;TZID=Europe/Rome:20240117T204500
DTSTAMP:20260421T113015
CREATED:20230804T092216Z
LAST-MODIFIED:20240214T122219Z
UID:10000712-1705437900-1705524300@www.teatromonfalcone.it
SUMMARY:Vuelvo al Sur
DESCRIPTION:regia e coreografie di Yanina Quiñones e Neri Piliu\nTango Spleen Orchestra\ncon Yanina Quiñones\, Neri Piliu e con i ballerini della Tango Rouge Company\nYanina Quinones e Neri Piliu\, Giselle Tacon e Nelson Piliu\, Melina Mauriño e Luis Cappelletti\, Celeste Rey e Sebastian Nieva \npianoforte\, voce e direzione musicale\nMariano Speranza \nbandoneon\nFrancesco Bruno \nviolino\nFatma Mülhim \nviola\nElena Luppi \ncontrabbasso\nVanessa Matamoros \ndisegno luci\nRoberto Romaniello \nproduzione\nLight Can Dance
URL:https://www.teatromonfalcone.it/eventi/vuelvo-al-sur/
CATEGORIES:Prosa
ATTACH;FMTTYPE=image/webp:https://www.teatromonfalcone.it/wp-content/uploads/2023/08/06.Tango-Rouge-Company.webp
END:VEVENT
BEGIN:VEVENT
DTSTART;TZID=Europe/Rome:20240119T204500
DTEND;TZID=Europe/Rome:20240119T204500
DTSTAMP:20260421T113015
CREATED:20230803T094252Z
LAST-MODIFIED:20240214T122355Z
UID:10000693-1705697100-1705697100@www.teatromonfalcone.it
SUMMARY:Duo Alphorn & Bayan
DESCRIPTION:Rainer Bartesch (*1964)\nSilent Mountains \nAnton Zimmermann (1741 – 1781)\nSinfonia in Sol maggiore “Pastoritia” \nJohann Sebastian Bach (1685 – 1750)\nFantasia e fuga in Sol minore “Grande”\, BWV 542 \nGiovanni D’Aquila (*1966)\nThe Great Horn of Helm \n*** \nJean Daetwyler (1907 – 1994)\nAppel à la prière \nFranck Angelis (*1962)\nImpasse \nArvo Pärt (*1935)\nPari Intervallo \nViatcheslav Semionov (*1946)\nSonata n. 1 \nLeopold Mozart (1719 – 1787)\nSinfonia Pastorella
URL:https://www.teatromonfalcone.it/eventi/duo-alphorn-bayan/
CATEGORIES:ControCanto,Musica
ATTACH;FMTTYPE=image/png:https://www.teatromonfalcone.it/wp-content/uploads/2023/08/Alphorn-Bayan3.png
END:VEVENT
BEGIN:VEVENT
DTSTART;TZID=Europe/Rome:20240121T160000
DTEND;TZID=Europe/Rome:20240121T180000
DTSTAMP:20260421T113015
CREATED:20240104T102442Z
LAST-MODIFIED:20240117T172742Z
UID:10000729-1705852800-1705860000@www.teatromonfalcone.it
SUMMARY:Hamelin
DESCRIPTION:di Tonio De Nitto\ncon Fabio Tinella\ndrammaturgia e regia di Tonio De Nitto\ndramaturg Riccardo Spagnulo\nmusiche originali di Paolo Coletta \nproduzione Factory Compagnia Transadriatica \nteatro d’attore e di figura\ndai 6 anni
URL:https://www.teatromonfalcone.it/eventi/hamelin/
CATEGORIES:Piccolipalchi
ATTACH;FMTTYPE=image/jpeg:https://www.teatromonfalcone.it/wp-content/uploads/2024/01/Hamelin-cover.jpeg
END:VEVENT
BEGIN:VEVENT
DTSTART;TZID=Europe/Rome:20240125T204500
DTEND;TZID=Europe/Rome:20240125T204500
DTSTAMP:20260421T113015
CREATED:20230804T092738Z
LAST-MODIFIED:20240214T122650Z
UID:10000713-1706215500-1706215500@www.teatromonfalcone.it
SUMMARY:Aquile randagie
DESCRIPTION:di e con Alex Cendron\nregia di Massimiliano Cividati\nscene di\nF.d.B. \nmusiche di\nPaolo Coletta \nproduzione\nArca Azzurra
URL:https://www.teatromonfalcone.it/eventi/aquile-randagie/
CATEGORIES:FuturaMente,Prosa
ATTACH;FMTTYPE=image/jpeg:https://www.teatromonfalcone.it/wp-content/uploads/2023/08/07.Alex-Cendron-Aquile-randagie©Laila-Pozzo001-stampa-orizzontale.jpg
END:VEVENT
BEGIN:VEVENT
DTSTART;TZID=Europe/Rome:20240126T204500
DTEND;TZID=Europe/Rome:20240126T204500
DTSTAMP:20260421T113015
CREATED:20230803T094915Z
LAST-MODIFIED:20240214T122753Z
UID:10000694-1706301900-1706301900@www.teatromonfalcone.it
SUMMARY:Notos Quartet
DESCRIPTION:Gustav Mahler (1860 – 1911)\nQuartetto in La minore per pianoforte e archi \nArnold Schönberg (1874 – 1951)\nVerklärte Nacht\, op. 4\narrangiamento per pianoforte e archi di Christoph Schickedanz \nJohannes Brahms (1833 – 1897)\nQuartetto per pianoforte n. 2 in La maggiore\, op. 26
URL:https://www.teatromonfalcone.it/eventi/notos-quartet/
CATEGORIES:Musica
ATTACH;FMTTYPE=image/webp:https://www.teatromonfalcone.it/wp-content/uploads/2023/08/7.Notos-Quartet.webp
END:VEVENT
BEGIN:VEVENT
DTSTART;TZID=Europe/Rome:20240127T180000
DTEND;TZID=Europe/Rome:20240127T180000
DTSTAMP:20260421T113015
CREATED:20231026T092650Z
LAST-MODIFIED:20240129T085949Z
UID:10000724-1706378400-1706378400@www.teatromonfalcone.it
SUMMARY:Mattia Groppello
DESCRIPTION:Johann Sebastian Bach (1685 – 1750)\nCiaccona\ndalla Partita n. 2 in Re minore per violino\, BWV 1004\ntrascrizione per pianoforte di Ferruccio Busoni \nLudwig van Beethoven (1770 – 1827)\nSonata per pianoforte n. 32 in Do minore\, op. 111 \nJohannes Brahms (1833 – 1897)\nDue rapsodie per pianoforte\, op. 79
URL:https://www.teatromonfalcone.it/eventi/mattia-groppello/
CATEGORIES:Musica,Talenti in scena
ATTACH;FMTTYPE=image/jpeg:https://www.teatromonfalcone.it/wp-content/uploads/2023/10/Mattia-Groppello-cover.jpg
END:VEVENT
BEGIN:VEVENT
DTSTART;TZID=Europe/Rome:20240211T160000
DTEND;TZID=Europe/Rome:20240211T160000
DTSTAMP:20260421T113015
CREATED:20230804T074248Z
LAST-MODIFIED:20240208T110214Z
UID:10000704-1707667200-1707667200@www.teatromonfalcone.it
SUMMARY:Trio Andrea Palladio
DESCRIPTION:Giovanni Benedetto Platti (1700 – 1762)\nTrio in Do minore per oboe\, fagotto e organo \nJoseph Bodin de Boismortier (1689 – 1755)\nSonata II per fagotto e cembalo \nGeorg Philipp Telemann (1681 – 1767)\nTrio in Mi bemolle maggiore per oboe\, fagotto e organo obbligato\nEssercizii Musici\, Trio n. 12 \nGeorg Friedrich Händel (1685 – 1759)\nSonata in Fa maggiore per oboe e basso continuo \nFederico Maria Sardelli (*1963)\nSonata in Do per oboe\, fagotto e organo\ndedicata al Trio Andrea Palladio
URL:https://www.teatromonfalcone.it/eventi/trio-andrea-palladio/
CATEGORIES:Concerti per Organo,Musica
ATTACH;FMTTYPE=image/jpeg:https://www.teatromonfalcone.it/wp-content/uploads/2023/08/0.Trio-Andrea-Palladio-Foto.jpg
END:VEVENT
BEGIN:VEVENT
DTSTART;TZID=Europe/Rome:20240216T204500
DTEND;TZID=Europe/Rome:20240216T204500
DTSTAMP:20260421T113015
CREATED:20230804T093754Z
LAST-MODIFIED:20240325T092850Z
UID:10000715-1708116300-1708116300@www.teatromonfalcone.it
SUMMARY:Delirio a due
DESCRIPTION:di Eugène Ionesco\nregia di Giorgio Gallione\nco-produzione\nAGIDI – Coop CMC / Nidodiragno
URL:https://www.teatromonfalcone.it/eventi/delirio-a-due/
CATEGORIES:FuturaMente,Prosa
ATTACH;FMTTYPE=image/jpeg:https://www.teatromonfalcone.it/wp-content/uploads/2023/08/09.-phMarinaAlessi-R.jpg
END:VEVENT
BEGIN:VEVENT
DTSTART;TZID=Europe/Rome:20240223T204500
DTEND;TZID=Europe/Rome:20240223T204500
DTSTAMP:20260421T113015
CREATED:20230803T095415Z
LAST-MODIFIED:20240221T134331Z
UID:10000695-1708721100-1708721100@www.teatromonfalcone.it
SUMMARY:Da Bach a Jannacci tutto è… Jazz!
DESCRIPTION:Come Fly With Me\nSammy Cahn\, Jimmy Van Heusen (1957) \nVorrei che fosse amore\nAntonio Amurri\, Bruno Canfora (1968) \nLa nave dei sogni\nAndrea Thomas Gambetti\, Alberto Schirò (2014) \nMa l’amore no\nMichele Galdieri\, Giovanni D’Anzi (1942) \nPerò mi vuole bene\nVirgilio Savona\, Gigi Cicherello\, Tata Giacobetti* (1964) \nMedley Cetra\nVirgilio Savona\, Tata Giacobetti \nAria sulla quarta corda\nJohann Sebastian Bach (1730) \nSmile\nJohn Turner\, Geoffrey Parsons\, Charlie Chaplin (1936) \nMedley Queen\nFreddie Mercury\, Brian May \nMedley Sting**\nSting \nFaceva il palo\nWalter Valdi\, Enzo Jannacci (1966) \nDisneiade*\nautori vari \narrangiamenti di Alberto Schirò\n* arrangiamento di Andrea Thomas Gambetti\n** arrangiamento di Ciro Caravano
URL:https://www.teatromonfalcone.it/eventi/da-bach-a-jannacci-tutto-e-jazz/
CATEGORIES:ControCanto,Musica
ATTACH;FMTTYPE=image/webp:https://www.teatromonfalcone.it/wp-content/uploads/2023/08/8.Alti-e-Bassi.webp
END:VEVENT
BEGIN:VEVENT
DTSTART;TZID=Europe/Rome:20240224T180000
DTEND;TZID=Europe/Rome:20240224T180000
DTSTAMP:20260421T113015
CREATED:20231026T103550Z
LAST-MODIFIED:20240221T144149Z
UID:10000725-1708797600-1708797600@www.teatromonfalcone.it
SUMMARY:Pi Duo
DESCRIPTION:Nathan Daughtrey (1975 – *)\nConcerto per vibrafono\nI. Night’s Song (El Canto de la Noche)\nII. Enchanted Light (La Luz Encantada)\nper vibrafono e pianoforte \nMatteo Firmi (1984 – *)\nConcertino “Insania Mentis”\nper vibrafono e pianoforte \n*** \nCsaba Marjan Zoltan (1983 – *)\nSpirit of Life\nper vibrafono e pianoforte \nMark Glentworth (1960 – *)\nBlues for Gilbert\nper vibrafono e pianoforte \nGeorge Gershwin (1898 – 1937)\nPreludio n. 2\nper vibrafono e pianoforte \nAlexej e Nicolai Gerassimez (1987 – * e 1985 – *)\nPiazonore
URL:https://www.teatromonfalcone.it/eventi/pi-duo/
CATEGORIES:Musica,Talenti in scena
ATTACH;FMTTYPE=image/jpeg:https://www.teatromonfalcone.it/wp-content/uploads/2023/10/PI-duo-cover.jpg
END:VEVENT
BEGIN:VEVENT
DTSTART;TZID=Europe/Rome:20240227T204500
DTEND;TZID=Europe/Rome:20240228T204500
DTSTAMP:20260421T113015
CREATED:20230804T094229Z
LAST-MODIFIED:20240228T104106Z
UID:10000716-1709066700-1709153100@www.teatromonfalcone.it
SUMMARY:Ciarlatani
DESCRIPTION:traduzione italiana di Davide Carnevali da Los Farsantes\ntesto e regia di Pablo Remón\nscene di\nRoberto Crea\nluci di\nLuigi Biondi\ncostumi di\nOrnella e Marina Campanale\naiuto regia\nRaquel Alarcón \ndirezione tecnica\nLuigi Flammia\ndatore luci\nChristian Pizzingrilli\nmacchinista\nMariano Vitanza\nfonico\nGianrocco Bruno\nsarta\nPiera Mura\nassistente alla regia\nSonia Mingo\nassistente costumista\nDaria Latini\nservice luci\nFonolight srl\nservice audio\nGutta trasporti MS Futura Srl\nfoto di scena\nGuido Mencari\nregia video\nNicolò Bressan Degli Antoni\nvideomaker\nIlaria Zago e Pietro Coppola \nconsulenza amministrativa\nTeresa Rizzo\nmanagement\nVittorio Stasi\ndirezione generale\nMaria Laura Rondanini \nuna produzione\nCardellino srl\nin coproduzione con\nSpoleto Festival dei Due Mondi – Teatro di Roma / Teatro Nazionale \nsi ringrazia per la collaborazione\nPremio David di Donatello e Piera Detassis
URL:https://www.teatromonfalcone.it/eventi/ciarlatani/
CATEGORIES:Prosa
ATTACH;FMTTYPE=image/webp:https://www.teatromonfalcone.it/wp-content/uploads/2023/08/10.230630_guido_mencari_roma_pablo_remon_ciarlatani_silvio_orlando-4925-Enhanced-NR_PRESS.webp
END:VEVENT
BEGIN:VEVENT
DTSTART;TZID=Europe/Rome:20240302T204500
DTEND;TZID=Europe/Rome:20240302T204500
DTSTAMP:20260421T113015
CREATED:20230803T101118Z
LAST-MODIFIED:20240301T120411Z
UID:10000696-1709412300-1709412300@www.teatromonfalcone.it
SUMMARY:Orchestra Filarmonica Slovena di Lubiana
DESCRIPTION:Jurij Mihevec (1805 – 1882)\nOuverture dal dramma musicale Il bambino delle fate \nHenryk Wieniawski (1835 – 1880)\nConcerto per violino e orchestra n. 1 in Fa diesis minore\, op. 14 \nJohannes Brahms (1833 – 1897)\nSinfonia n. 1 in Do minore per orchestra\, op. 68
URL:https://www.teatromonfalcone.it/eventi/orchestra-filarmonica-slovena-di-lubiana/
CATEGORIES:Musica
ATTACH;FMTTYPE=image/webp:https://www.teatromonfalcone.it/wp-content/uploads/2023/08/9.Orchestra-slovenia-cover.webp
END:VEVENT
BEGIN:VEVENT
DTSTART;TZID=Europe/Rome:20240303T170000
DTEND;TZID=Europe/Rome:20240303T170000
DTSTAMP:20260421T113015
CREATED:20240104T102735Z
LAST-MODIFIED:20240117T173552Z
UID:10000730-1709485200-1709485200@www.teatromonfalcone.it
SUMMARY:Le avventure di Pesce Gaetano
DESCRIPTION:di e con Vania Pucci\ndisegni di sabbia dal vivo e animazioni digitali di Ines Cattabriga\nluci e suoni di Saverio Bartali\noperatore multimediale Giacomo Saradini \nproduzione Giallo Mare Minimal Teatro \nteatro d’attore\, immagini e sand art dal vivo\ndai 3 anni
URL:https://www.teatromonfalcone.it/eventi/le-avventure-di-pesce-gaetano/
CATEGORIES:Piccolipalchi
ATTACH;FMTTYPE=image/jpeg:https://www.teatromonfalcone.it/wp-content/uploads/2024/01/Le-avventure-di-pesce-Gaetano-cover.jpg
END:VEVENT
BEGIN:VEVENT
DTSTART;TZID=Europe/Rome:20240307T204500
DTEND;TZID=Europe/Rome:20240307T204500
DTSTAMP:20260421T113015
CREATED:20230804T095132Z
LAST-MODIFIED:20240307T114007Z
UID:10000717-1709844300-1709844300@www.teatromonfalcone.it
SUMMARY:Bianco su Bianco
DESCRIPTION:scritto e diretto da Daniele Finzi Pasca\nco-design luci\, coreografie di\nDaniele Finzi Pasca \ndirettrice di creazione\nJulie Hamelin Finzi \nproduzione\nCompagnia Finzi Pasca
URL:https://www.teatromonfalcone.it/eventi/bianco-su-bianco/
CATEGORIES:FuturaMente,Prosa
ATTACH;FMTTYPE=image/webp:https://www.teatromonfalcone.it/wp-content/uploads/2023/08/11.bianco-magenta_sq.webp
END:VEVENT
BEGIN:VEVENT
DTSTART;TZID=Europe/Rome:20240308T204500
DTEND;TZID=Europe/Rome:20240308T204500
DTSTAMP:20260421T113015
CREATED:20230803T102254Z
LAST-MODIFIED:20240307T100416Z
UID:10000697-1709930700-1709930700@www.teatromonfalcone.it
SUMMARY:Tribute to the Americas
DESCRIPTION:Heitor Villa-Lobos (1887 – 1959)\nQuartetto n. 17 \nSamuel Barber (1910 – 1981)\nAdagio per archi\, op.11 \nAstor Piazzolla (1921 – 1992)\nFour for Tango \nGeorge Gershwin (1898 – 1937)\nLullaby \nAlberto Ginastera (1916 – 1983)\nQuartetto n. 1\, op. 20
URL:https://www.teatromonfalcone.it/eventi/tribute-to-the-americas/
CATEGORIES:ControCanto,Musica
ATTACH;FMTTYPE=image/jpeg:https://www.teatromonfalcone.it/wp-content/uploads/2023/08/10.Cuarteto-Latinoamericano.jpg
END:VEVENT
END:VCALENDAR